BEGIN:VCALENDAR
VERSION:2.0
PRODID:-//ChamberMaster//Event Calendar 2.0//EN
METHOD:PUBLISH
X-PUBLISHED-TTL:P3D
REFRESH-INTERVAL:P3D
CALSCALE:GREGORIAN
BEGIN:VEVENT
DTSTART:20241020T170000Z
DTEND:20241020T190000Z
X-MICROSOFT-CDO-ALLDAYEVENT:FALSE
SUMMARY:Yoga + Puppy Adoption
DESCRIPTION:Join us on October 20th from 12:00 - 2:00 PM for a unique and heartwarming event at Belle  me Vineyard! We're teaming up with Inspiring Action Yoga Studios for two 45-minute yoga sessions\, complete with adorable\, adoptable puppies from Coco's Heart Dog Rescue. After each session\, enjoy an extra 15 minutes of puppy snuggles!\n\nYoga Session I\, 12-12:45pm\n\nYoga Session II\, 1-1:45pm\n\n$25 each/$40 for both\n\nwith Tracey Mortensen\n\nWhether you're looking to adopt or just enjoy a relaxing yoga session with playful pups\, this is an event you won't want to miss. Come for the yoga\, stay for the puppy love!\n\n#PuppyYoga #AdoptDontShop #BelleAmeVineyard #InspiringActionYoga #YogaWithPuppies
X-ALT-DESC;FMTTYPE=text/html:<p>Join us on&nbsp\;<strong>October 20th</strong>&nbsp\;from&nbsp\;<strong>12:00 - 2:00 PM</strong>&nbsp\;for a unique and heartwarming event at Belle &Acirc\;me Vineyard! We&#39\;re teaming up with&nbsp\;<strong>Inspiring Action Yoga Studios</strong>&nbsp\;for two 45-minute yoga sessions\, complete with adorable\, adoptable puppies from&nbsp\;<strong>Coco&#39\;s Heart Dog Rescue</strong>. After each session\, enjoy an extra 15 minutes of puppy snuggles!</p>\n\n<div>Yoga Session I\, 12-12:45pm</div>\n\n<div>Yoga Session II\, 1-1:45pm</div>\n\n<div>$25 each/$40 for both</div>\n\n<div>with Tracey Mortensen</div>\n\n<p>Whether you&rsquo\;re looking to adopt or just enjoy a relaxing yoga session with playful pups\, this is an event you won&rsquo\;t want to miss. Come for the yoga\, stay for the puppy love!</p>\n\n<p>#PuppyYoga #AdoptDontShop #BelleAmeVineyard #InspiringActionYoga #YogaWithPuppies</p>\n
LOCATION:1370 Hosford Street\, Hudson\, WI
UID:e.87.22047
SEQUENCE:3
DTSTAMP:20260424T034312Z
URL:https://tourism.rfchamber.com/events/details/yoga-puppy-adoption-22047
END:VEVENT

END:VCALENDAR
