BEGIN:VCALENDAR
VERSION:2.0
PRODID:-//ChamberMaster//Event Calendar 2.0//EN
METHOD:PUBLISH
X-PUBLISHED-TTL:P3D
REFRESH-INTERVAL:P3D
CALSCALE:GREGORIAN
BEGIN:VEVENT
DTSTART:20241113T003000Z
DTEND:20241113T013000Z
X-MICROSOFT-CDO-ALLDAYEVENT:FALSE
SUMMARY:What's Dana Reading? Fiction Book Club Hudson
DESCRIPTION:Join us for our FREE Book Club! We will be discussing "First Lie Wins" by Ashley Elston. Dana will be hosting & Kelsey is the assistant to the book club host! Please feel free to make this a "happy hour" by enjoying your favorite beverage or snack. We will be meeting at the Hudson location in Studio B. Everyone is welcome!
X-ALT-DESC;FMTTYPE=text/html:Join us for our FREE Book Club! We will be discussing &quot\;First Lie Wins&quot\; by Ashley Elston. Dana will be hosting &amp\; Kelsey is the assistant to the book club host! Please feel free to make this a &quot\;happy hour&quot\; by enjoying your favorite beverage or snack. We will be meeting at the Hudson location in Studio B. Everyone is welcome!
LOCATION:1370 Hosford Street\, Hudson\, WI
UID:e.87.22049
SEQUENCE:3
DTSTAMP:20260424T050713Z
URL:https://tourism.rfchamber.com/events/details/what-s-dana-reading-fiction-book-club-hudson-11-12-2024-22049
END:VEVENT

END:VCALENDAR
