BEGIN:VCALENDAR
VERSION:2.0
PRODID:-//ChamberMaster//Event Calendar 2.0//EN
METHOD:PUBLISH
X-PUBLISHED-TTL:P3D
REFRESH-INTERVAL:P3D
CALSCALE:GREGORIAN
BEGIN:VEVENT
DTSTART:20221111T143000Z
DTEND:20221111T203000Z
X-MICROSOFT-CDO-ALLDAYEVENT:FALSE
SUMMARY:Veterans Day Blood Drive
DESCRIPTION:Veterans Day Blood Drive\n\nAmerican Legion\, 701 N Main St.\, River Falls\n\nThursday\, Nov. 10\, 1 7:00\n\nFriday\, Nov. 11\, 8:30  2:30\n\nAppointments: Call Judy at 715-760-1144\n\nor through the Red Cross at 1-800-Red Cross
X-ALT-DESC;FMTTYPE=text/html:<strong><span style="color:red"><span style="font-size:24.0pt">Veterans Day Blood Drive</span></span></strong><br />\n<strong><span style="color:#0B0133"><span style="font-size:16.0pt">American Legion\, 701 N Main St.\, River Falls</span></span></strong><br />\n<strong><span style="color:#0B0133"><span style="font-size:16.0pt">Thursday\, </span></span></strong><strong><span style="color:#C00000"><span style="font-size:16.0pt">Nov. 10\, </span></span></strong><strong><span style="color:black"><span style="font-size:16.0pt">1&ndash\;7:00</span></span></strong><br />\n<strong><span style="color:black"><span style="font-size:16.0pt">Friday\, </span></span></strong><strong><span style="color:#C00000"><span style="font-size:16.0pt">Nov. 11\, </span></span></strong><strong><span style="color:black"><span style="font-size:16.0pt">8:30 &ndash\;2:30</span></span></strong><br />\n<strong><span style="color:#C00000"><span style="font-size:16.0pt">Appointments: Call Judy at 715-760-1144<br />\nor through the Red Cross at 1-800-Red Cross</span></span></strong>
LOCATION:American Legion\, 701 N Main St.\, River Falls
UID:e.87.18335
SEQUENCE:3
DTSTAMP:20260424T154637Z
URL:https://tourism.rfchamber.com/events/details/veterans-day-blood-drive-11-11-2022-18335
END:VEVENT

END:VCALENDAR
