BEGIN:VCALENDAR
VERSION:2.0
PRODID:-//ChamberMaster//Event Calendar 2.0//EN
METHOD:PUBLISH
X-PUBLISHED-TTL:P3D
REFRESH-INTERVAL:P3D
CALSCALE:GREGORIAN
BEGIN:VEVENT
DTSTART:20260228T000000Z
DTEND:20260228T020000Z
X-MICROSOFT-CDO-ALLDAYEVENT:FALSE
SUMMARY:UW-River Falls to host Irish Ceílí Dance
DESCRIPTION:The University of Wisconsin-River Falls will present an Irish Ce l  Dance on Feb. 27 from 6 to 8 p.m. in the Riverview Ballroom in the University Center\, 501 Wild Rose Ave.\, River Falls. The event is free and open to the public.\n\nA ce l  is an Irish social gathering involving dancing and folk music. The Irish Ce l  Dance at UWRF will begin with Irish dance lessons taught by an instructor\, followed by music and dancing with a live band. Attendees can enjoy harvest festival-inspired foods\, hot chocolate and non-alcoholic Irish cream.\n\n"We are excited to bring the Irish Ce l  Dance back in collaboration with the Office of International Education\," said Sylvia Kass\, student events and activities manager. "This will be a great chance to dance\, enjoy live Irish music and learn about study abroad opportunities."\n\nFor more information\, contact Student Involvement at studentinvolvement@uwrf.edu.
X-ALT-DESC;FMTTYPE=text/html:<div>\n<p><span style="font-size:14px"><span style="font-family:gotham ssm a\,gotham ssm b\,montserrat\,sans-serif">The University of Wisconsin-River Falls will present an Irish Ce&iacute\;l&iacute\; Dance on Feb. 27 from 6 to 8 p.m. in the Riverview Ballroom in the University Center\, 501 Wild Rose Ave.\, River Falls. The event is free and open to the public.</span><br />\nA ce&iacute\;l&iacute\; is an Irish social gathering involving dancing and folk music. The&nbsp\;Irish Ce&iacute\;l&iacute\; Dance&nbsp\;at UWRF will begin with&nbsp\;<a href="https://www.facebook.com/watch/?v=404447707104299" style="color: rgb(190\, 15\, 52)\; font-weight: 700\;">Irish dance lessons</a>&nbsp\;taught by an instructor\, followed by music and dancing with a live band. Attendees can enjoy harvest festival-inspired foods\, hot chocolate and non-alcoholic Irish cream.</span></p>\n\n<p><span style="font-size:14px">&quot\;We are excited to bring the Irish Ce&iacute\;l&iacute\; Dance back in collaboration with the Office of International Education\,&quot\; said Sylvia Kass\, student events and activities manager. &quot\;This will be a great chance to dance\, enjoy live Irish music and learn about study abroad opportunities.&quot\;</span></p>\n\n<p><span style="font-size:14px">For more information\, contact Student Involvement at&nbsp\;<a href="mailto:studentinvolvement@uwrf.edu" style="color: rgb(190\, 15\, 52)\; font-weight: 700\;">studentinvolvement@uwrf.edu</a>.&nbsp\;</span></p>\n</div>\n
LOCATION:Riverview Ballroom in the University Center\, 501 Wild Rose Ave.\, River Falls.
UID:e.87.24239
SEQUENCE:3
DTSTAMP:20260421T171559Z
URL:https://tourism.rfchamber.com/events/details/uw-river-falls-to-host-irish-ce&#237;l&#237;-dance-24239
END:VEVENT

END:VCALENDAR
