BEGIN:VCALENDAR
VERSION:2.0
PRODID:-//ChamberMaster//Event Calendar 2.0//EN
METHOD:PUBLISH
X-PUBLISHED-TTL:P3D
REFRESH-INTERVAL:P3D
CALSCALE:GREGORIAN
BEGIN:VEVENT
DTSTART:20241206T003000Z
DTEND:20241206T020000Z
X-MICROSOFT-CDO-ALLDAYEVENT:FALSE
SUMMARY:Tree of Love
DESCRIPTION:Join us for a special tree lighting fundraiser to memorialize and honor our friends and  loved ones. The event will feature a special program and holiday music. Dessert and refreshments will be served.\n\n\n\nA donation of $10 or more will reserve an ornament to be hung on the tree  or a donation of $25 will reserve a string of lights for the tree. All proceeds will be used to directly enhance the lives and programming of our tenants at Wellhaven Senior Living.
X-ALT-DESC;FMTTYPE=text/html:<strong><span style="color:#635245"><span style="font-family:calibri"><span style="font-size:12.0pt">Join us for a special tree lighting fundraiser to memorialize and honor our friends and&nbsp\; loved ones. The event will feature a special program and holiday music. Dessert and refreshments will be served.</span></span></span></strong><br />\n<br />\n<span style="color:#635245"><span style="font-family:calibri"><span style="font-size:12.0pt">A donation of $10 or more will reserve an ornament to be hung on the tree </span></span></span><span style="color:#635245"><span style="font-family:calibri"><span style="font-size:12.0pt">&nbsp\;or a donation of $25 will reserve a string of lights for the tree. All proceeds will be used to directly enhance the lives and programming of our tenants at Wellhaven Senior Living. </span></span></span><br />\n<br />\n&nbsp\;
LOCATION:Wellhaven Senior Living 119 Union St River Falls\, WI 54022
UID:e.87.18338
SEQUENCE:3
DTSTAMP:20260424T062320Z
URL:https://tourism.rfchamber.com/events/details/tree-of-love-12-05-2024-18338
END:VEVENT

END:VCALENDAR
