BEGIN:VCALENDAR
VERSION:2.0
PRODID:-//ChamberMaster//Event Calendar 2.0//EN
METHOD:PUBLISH
X-PUBLISHED-TTL:P3D
REFRESH-INTERVAL:P3D
CALSCALE:GREGORIAN
BEGIN:VEVENT
DTSTART;VALUE=DATE:20251228
DTEND;VALUE=DATE:20260123
TRANSP:TRANSPARENT
X-MICROSOFT-CDO-ALLDAYEVENT:TRUE
SUMMARY:The Garage is Closed December 28th-January 22nd
DESCRIPTION:See you next year! We will be open January 23rd 2026!
X-ALT-DESC;FMTTYPE=text/html:See you next year! We will be open January 23rd 2026!&nbsp\;
LOCATION:109 West Cedar Street\, River Falls\, WI\, United States\, Wisconsin 54022
UID:e.87.24130
SEQUENCE:3
DTSTAMP:20260421T135408Z
URL:https://tourism.rfchamber.com/events/details/the-garage-is-closed-december-28th-january-22nd-24130
END:VEVENT

END:VCALENDAR
