BEGIN:VCALENDAR
VERSION:2.0
PRODID:-//ChamberMaster//Event Calendar 2.0//EN
METHOD:PUBLISH
X-PUBLISHED-TTL:P3D
REFRESH-INTERVAL:P3D
CALSCALE:GREGORIAN
BEGIN:VEVENT
DTSTART:20241207T220000Z
DTEND:20241208T000000Z
X-MICROSOFT-CDO-ALLDAYEVENT:FALSE
SUMMARY:Tattersall Winter Wonderland Cocktail Class
DESCRIPTION:Enjoy all things sweet\, decadent and spirited this holiday season at our second Winter Wonderland Cocktail academy! \n\nJoin a Tattersall expert for this special two-hour cocktail class where you will learn how to make 4 different Holiday cocktails\, learn tips and tricks for hosting at home and enjoy a charcuterie snack plate with local meats and cheeses.
X-ALT-DESC;FMTTYPE=text/html:Enjoy all things sweet\, decadent and spirited this holiday season at our second Winter Wonderland Cocktail academy!&nbsp\;<br />\nJoin a Tattersall expert for this special two-hour cocktail class where you will learn how to make 4 different Holiday cocktails\, learn tips and tricks for hosting at home and enjoy a charcuterie snack plate with local meats and cheeses.&nbsp\;
LOCATION:Tattersall Distilling 1777 Paulson Rd. River Falls\, WI 54022
UID:e.87.22066
SEQUENCE:3
DTSTAMP:20260424T062336Z
URL:https://tourism.rfchamber.com/events/details/tattersall-winter-wonderland-cocktail-class-22066
END:VEVENT

END:VCALENDAR
