BEGIN:VCALENDAR
VERSION:2.0
PRODID:-//ChamberMaster//Event Calendar 2.0//EN
METHOD:PUBLISH
X-PUBLISHED-TTL:P3D
REFRESH-INTERVAL:P3D
CALSCALE:GREGORIAN
BEGIN:VEVENT
DTSTART:20260505T153000Z
DTEND:20260505T163000Z
X-MICROSOFT-CDO-ALLDAYEVENT:FALSE
SUMMARY:Sycamore II Memory Care & Townhomes Informational Meeting
DESCRIPTION:Join us to learn more about the brand-new additions to our Sycamore Campus\, which will include the Sycamore II ( 24 unit memory care) and 8 more townhome villas.\n\nHear about construction updates\, planned amenities\, services\, and activities that will be available.\n\nRSVP to Megan @ 715-997-3441 or megan.harstad@fairview.org. SPACE is LIMITED. Please RSVP by May 1st. Or thru the link below:\n\nhttps://info.thesycamoreseniorliving.com/srf-info-session
X-ALT-DESC;FMTTYPE=text/html:<div>Join us to learn more about the brand-new additions to our Sycamore Campus\, which will include the Sycamore II ( 24 unit memory care) and 8 more townhome villas.</div>\n\n<div>Hear about construction updates\, planned amenities\, services\, and activities that will be available.</div>\n\n<div>RSVP to Megan @ 715-997-3441 or megan.harstad@fairview.org. SPACE is LIMITED. Please RSVP by May 1st. Or thru the link below:<br />\n<a class="x1i10hfl xjbqb8w x1ejq31n x18oe1m7 x1sy0etr xstzfhl x972fbf x10w94by x1qhh985 x14e42zd x9f619 x1ypdohk xt0psk2 x3ct3a4 xdj266r x14z9mp xat24cr x1lziwak xexx8yu xyri2b x18d9i69 x1c1uobl x16tdsg8 x1hl2dhg xggy1nq x1a2a7pz xkrqix3 x1sur9pj x1fey0fg x1s688f" href="https://info.thesycamoreseniorliving.com/srf-info-session?fbclid=IwZXh0bgNhZW0CMTAAYnJpZBExaW81RGx0UWlKbE9XUHVCRnNydGMGYXBwX2lkEDIyMjAzOTE3ODgyMDA4OTIAAR65MLPQ8C0k9LtBVepzpVRjy6V58zRRe_rvsocUMProT0bCuvKY_9zj16CP1A_aem_E5YGvCOYcYAijk7pc6WYAQ" rel="nofollow" style="color: rgb(0\, 100\, 209)\; cursor: pointer\; text-decoration-line: none\; outline: none\; border-inline-width: 0px\; margin-inline: 0px\; text-align: inherit\; border-inline-style: none\; padding-inline: 0px\; -webkit-tap-highlight-color: transparent\; font-weight: 600\; list-style-type: none\; box-sizing: border-box\; touch-action: manipulation\; background-color: transparent\; display: inline\; padding-bottom: 0px\; border-top-style: none\; border-bottom-width: 0px\; border-bottom-style: none\; border-top-width: 0px\; margin-bottom: 0px\; margin-top: 0px\; padding-top: 0px\; font-family: inherit\;" tabindex="0" target="_blank">https://info.thesycamoreseniorliving.com/srf-info-session</a>\n\n<div style="text-align:inherit">&nbsp\;</div>\n</div>\n
LOCATION:The Sycamore of River Falls 745 Sycamore Street River Falls WI
UID:e.87.24382
SEQUENCE:3
DTSTAMP:20260420T102310Z
URL:https://tourism.rfchamber.com/events/details/sycamore-ii-memory-care-townhomes-informational-meeting-24382
END:VEVENT

END:VCALENDAR
