BEGIN:VCALENDAR
VERSION:2.0
PRODID:-//ChamberMaster//Event Calendar 2.0//EN
METHOD:PUBLISH
X-PUBLISHED-TTL:P3D
REFRESH-INTERVAL:P3D
CALSCALE:GREGORIAN
BEGIN:VEVENT
DTSTART:20260501T050000Z
DTEND:20260510T050000Z
X-MICROSOFT-CDO-ALLDAYEVENT:FALSE
SUMMARY:Sycamore Hanging Basket Fundraiser
DESCRIPTION:Get a Hanging Flower Basket with your in-kind donation to Among Friends River Falls. \n\n \n\n($20 donation or more suggested.) 10" baskets are a variety of colors.\n\nORDER BY Friday\, MAY 1ST\n\nSupplies are limited. Two per household.\n\nPICK UP ON FRIDAY\, MAY 8TH\n\nBetween noon and 3:00 PM.\n\nCONTACT MEGAN TO PLACE YOUR ORDER\n\n715-997-3441 or email Megan.Harstad@Fairview.org\n\nTours will be available during this time\, as requested. Hanging Baskets are provided by Blooms for Happiness and cedar hill greenhouse
X-ALT-DESC;FMTTYPE=text/html:<div>Get a Hanging Flower Basket with your in-kind donation to Among Friends River Falls.&nbsp\;</div>\n\n<div>&nbsp\;</div>\n\n<div>($20 donation or more suggested.) 10&quot\; baskets are a variety of colors.<br />\nORDER BY Friday\, MAY 1ST<br />\nSupplies are limited. Two per household.</div>\n\n<div>PICK UP ON FRIDAY\, MAY 8TH<br />\nBetween noon and 3:00 PM.</div>\n\n<div>CONTACT MEGAN TO PLACE YOUR ORDER<br />\n715-997-3441 or email Megan.Harstad@Fairview.org<br />\nTours will be available during this time\, as requested. Hanging Baskets are provided by Blooms for Happiness and cedar hill greenhouse<br />\n&nbsp\;</div>\n
LOCATION:The Sycamore of River Falls 745 Sycamore Street River Falls WI
UID:e.87.24383
SEQUENCE:3
DTSTAMP:20260420T101833Z
URL:https://tourism.rfchamber.com/events/details/sycamore-hanging-basket-fundraiser-24383
END:VEVENT

END:VCALENDAR
