BEGIN:VCALENDAR
VERSION:2.0
PRODID:-//ChamberMaster//Event Calendar 2.0//EN
METHOD:PUBLISH
X-PUBLISHED-TTL:P3D
REFRESH-INTERVAL:P3D
CALSCALE:GREGORIAN
BEGIN:VEVENT
DTSTART:20260626T153000Z
DTEND:20260627T000000Z
X-MICROSOFT-CDO-ALLDAYEVENT:FALSE
SUMMARY:Swing Into Action Golf Tournament benefiting the St. Croix Valley Sexual Assault Response Team (SART)
DESCRIPTION:Swing Into Action with St. Croix Valley SART! Join us on Friday\, June 26\, 2026\, for a fun-filled day on the course in support of St. Croix Valley Sexual Assault Response Team (SART). This Best Ball golf tournament brings together community members\, local businesses\, forensic nurses\, and advocates to raise critical funds that support survivors and violence prevention education efforts in our region. The tournament kicks off with a Noon Shotgun Start and includes cart\, lunch\, and dinner with the cost of golf. Throughout the day\, enjoy games on the course\, a bake sale\, raffle baskets\, and plenty of chances to win great prizes all while making a meaningful impact. Registration Options: $100 per individual golfer $400 per team of four golfers Early Bird Special: Register a team of four for $360 if completed before May 1\, 2026 $30 per person for dinner only (no golf required) Whether you're golfing\, joining us for dinner\, or cheering from the sidelines\, your participation helps ensure survivors have access to compassionate\, trauma-informed care when they need it most.
X-ALT-DESC;FMTTYPE=text/html:Swing Into Action with St. Croix Valley SART! Join us on Friday\, June 26\, 2026\, for a fun-filled day on the course in support of St. Croix Valley Sexual Assault Response Team (SART). This Best Ball golf tournament brings together community members\, local businesses\, forensic nurses\, and advocates to raise critical funds that support survivors and violence prevention education efforts in our region. The tournament kicks off with a Noon Shotgun Start and includes cart\, lunch\, and dinner with the cost of golf. Throughout the day\, enjoy games on the course\, a bake sale\, raffle baskets\, and plenty of chances to win great prizes&mdash\;all while making a meaningful impact. Registration Options: $100 per individual golfer $400 per team of four golfers Early Bird Special: Register a team of four for $360 if completed before May 1\, 2026 $30 per person for dinner only (no golf required) Whether you&rsquo\;re golfing\, joining us for dinner\, or cheering from the sidelines\, your participation helps ensure survivors have access to compassionate\, trauma-informed care when they need it most.
LOCATION:Pheasant Hills Golf Course in Hammond\, WI.
UID:e.87.24360
SEQUENCE:3
DTSTAMP:20260421T233140Z
URL:https://tourism.rfchamber.com/events/details/swing-into-action-golf-tournament-benefiting-the-st-croix-valley-sexual-assault-response-team-sart-24360
END:VEVENT

END:VCALENDAR
