BEGIN:VCALENDAR
VERSION:2.0
PRODID:-//ChamberMaster//Event Calendar 2.0//EN
METHOD:PUBLISH
X-PUBLISHED-TTL:P3D
REFRESH-INTERVAL:P3D
CALSCALE:GREGORIAN
BEGIN:VEVENT
DTSTART:20240713T220000Z
DTEND:20240714T040000Z
X-MICROSOFT-CDO-ALLDAYEVENT:FALSE
SUMMARY:Smoke N' Thunder by the Kinni
DESCRIPTION:High horsepower action for the whole family to enjoy. Come watch pullers from across the Midwest compete on the track for the longest pull. With horsepower levels in the thousands\, these machines are not running your basic truck or tractor engines. Proceeds help support the River Falls FFA. Food and drink available to purchase on site.
X-ALT-DESC;FMTTYPE=text/html:High horsepower action for the whole family to enjoy. Come watch pullers from across the Midwest compete on the track for the longest pull. With horsepower levels in the thousands\, these machines are not running your basic truck or tractor engines. Proceeds help support the River Falls FFA. Food and drink available to purchase on site.
LOCATION:141 Hwy 35N River Falls\, WI 54022 Behind Total Excavating
UID:e.87.21329
SEQUENCE:3
DTSTAMP:20260423T232744Z
URL:https://tourism.rfchamber.com/events/details/smoke-n-thunder-by-the-kinni-07-13-2024-21329
END:VEVENT

END:VCALENDAR
