BEGIN:VCALENDAR
VERSION:2.0
PRODID:-//ChamberMaster//Event Calendar 2.0//EN
METHOD:PUBLISH
X-PUBLISHED-TTL:P3D
REFRESH-INTERVAL:P3D
CALSCALE:GREGORIAN
BEGIN:VEVENT
DTSTART:20241116T150000Z
DTEND:20241116T170000Z
X-MICROSOFT-CDO-ALLDAYEVENT:FALSE
SUMMARY:Slow\, Mindful and Curious: Somatic Relief for Back Pain
DESCRIPTION:Hanna Somatic Education is different from other movement/exercise modalities because we use the Motor Sensory Cortex to change movement patterns and reset the resting tone of your muscles. Only when the brain is involved can we truly change the muscular patterns that are causing pain.
X-ALT-DESC;FMTTYPE=text/html:<h2><span style="font-size:10pt">Hanna Somatic Education&nbsp\;is different from other movement/exercise modalities because we use&nbsp\;the&nbsp\;<em>Motor Sensory Cortex</em>&nbsp\;to change movement patterns and reset the resting tone of your muscles. Only when the brain is involved can we truly change the muscular patterns that are causing pain.</span></h2>\n
LOCATION:1370 Hosford Street\, Hudson WI
UID:e.87.22032
SEQUENCE:3
DTSTAMP:20260424T062200Z
URL:https://tourism.rfchamber.com/events/details/slow-mindful-and-curious-somatic-relief-for-back-pain-22032
END:VEVENT

END:VCALENDAR
