BEGIN:VCALENDAR
VERSION:2.0
PRODID:-//ChamberMaster//Event Calendar 2.0//EN
METHOD:PUBLISH
X-PUBLISHED-TTL:P3D
REFRESH-INTERVAL:P3D
CALSCALE:GREGORIAN
BEGIN:VEVENT
DTSTART:20241116T173000Z
DTEND:20241116T183000Z
X-MICROSOFT-CDO-ALLDAYEVENT:FALSE
SUMMARY:Serenity Roots Percussive Arts - Drum Circle River Falls
DESCRIPTION:Discover your inner rhythm with Serenity Roots Percussive Arts. Group drumming provides a fun and relaxing way to connect with one another while also leading to a deeper sense of self awareness. Other health benefits include:  release negative thoughts and feelings\, induce relaxation\, align body and mind with the natural world\, boost immune system\, and much more. Let the experience of drumming flow with the rhythm of your life! Chairs\, drums\, and percussion instruments are provided. $20/class\n\nThis class is held at Inspiring Actions River Falls Studio located at 128B South Main Street\, River Falls WI
X-ALT-DESC;FMTTYPE=text/html:<p>Discover your inner rhythm with Serenity Roots Percussive Arts. Group drumming provides a fun and relaxing way to connect with one another while also leading to a deeper sense of self awareness. Other health benefits include:&nbsp\; release negative thoughts and feelings\, induce relaxation\, align body and mind with the natural world\, boost immune system\, and much more. Let the experience of drumming flow with the rhythm of your life! Chairs\, drums\, and percussion instruments are provided. $20/class</p>\n\n<p>This class is held at Inspiring Actions River Falls Studio located at 128B South Main Street\, River Falls WI</p>\n
LOCATION:128B South Main Street\, River Falls WI
UID:e.87.21988
SEQUENCE:3
DTSTAMP:20260424T050432Z
URL:https://tourism.rfchamber.com/events/details/serenity-roots-percussive-arts-drum-circle-river-falls-21988
END:VEVENT

END:VCALENDAR
