BEGIN:VCALENDAR
VERSION:2.0
PRODID:-//ChamberMaster//Event Calendar 2.0//EN
METHOD:PUBLISH
X-PUBLISHED-TTL:P3D
REFRESH-INTERVAL:P3D
CALSCALE:GREGORIAN
BEGIN:VEVENT
DTSTART:20241019T163000Z
DTEND:20241019T173000Z
X-MICROSOFT-CDO-ALLDAYEVENT:FALSE
SUMMARY:Serenity Roots Percussive Arts - Drum Circle Hudson
DESCRIPTION:Discover your inner rhythm with Serenity Roots Percussive Arts. Group drumming provides a fun and relaxing way to connect with one another while also leading to a deeper sense of self awareness. Other health benefits include:  release negative thoughts and feelings\, induce relaxation\, align body and mind with the natural world\, boost immune system\, and much more. Let the experience of drumming flow with the rhythm of your life! Chairs\, drums\, and percussion instruments are provided. $20/class\n\nThis class is held at Inspiring Actions Hudson Studio located at 1370 Hosford Street\, Hudson\, WI 54016
X-ALT-DESC;FMTTYPE=text/html:<p>Discover your inner rhythm with Serenity Roots Percussive Arts. Group drumming provides a fun and relaxing way to connect with one another while also leading to a deeper sense of self awareness. Other health benefits include:&nbsp\; release negative thoughts and feelings\, induce relaxation\, align body and mind with the natural world\, boost immune system\, and much more. Let the experience of drumming flow with the rhythm of your life! Chairs\, drums\, and percussion instruments are provided. $20/class</p>\n\n<p>This class is held at Inspiring Actions Hudson Studio located at 1370 Hosford Street\, Hudson\, WI 54016</p>\n
LOCATION:1370 Hosford Street\, Hudson\, WI
UID:e.87.21983
SEQUENCE:3
DTSTAMP:20260424T034233Z
URL:https://tourism.rfchamber.com/events/details/serenity-roots-percussive-arts-drum-circle-hudson-21983
END:VEVENT

END:VCALENDAR
