BEGIN:VCALENDAR
VERSION:2.0
PRODID:-//ChamberMaster//Event Calendar 2.0//EN
METHOD:PUBLISH
X-PUBLISHED-TTL:P3D
REFRESH-INTERVAL:P3D
CALSCALE:GREGORIAN
BEGIN:VEVENT
DTSTART:20241107T220000Z
DTEND:20241107T233000Z
X-MICROSOFT-CDO-ALLDAYEVENT:FALSE
SUMMARY:Senior Pizza Party @ Bay Harbor of River Falls
DESCRIPTION:Seniors are invited for pizza and comradery. The full meal will include salad\, pizza\, dessert\, beer\, wine and punch. This is a free event.
X-ALT-DESC;FMTTYPE=text/html:Seniors are invited for pizza and comradery. The full meal will include salad\, pizza\, dessert\, beer\, wine and punch. This is a free event.
LOCATION:Bay Harbor of River Falls (formerly Wellhaven) 119 Union Street River Falls\, WI 54022
UID:e.87.22041
SEQUENCE:3
DTSTAMP:20260424T050631Z
URL:https://tourism.rfchamber.com/events/details/senior-pizza-party-bay-harbor-of-river-falls-22041
END:VEVENT

END:VCALENDAR
