BEGIN:VCALENDAR
VERSION:2.0
PRODID:-//ChamberMaster//Event Calendar 2.0//EN
METHOD:PUBLISH
X-PUBLISHED-TTL:P3D
REFRESH-INTERVAL:P3D
CALSCALE:GREGORIAN
BEGIN:VEVENT
DTSTART:20240712T190000Z
DTEND:20240713T000000Z
X-MICROSOFT-CDO-ALLDAYEVENT:FALSE
SUMMARY:Royalty Alumni Float Registration
DESCRIPTION:Join the River Falls Royalty Alumni Float!
X-ALT-DESC;FMTTYPE=text/html:Join the River Falls Royalty Alumni Float!<br />\n<br />\n&nbsp\;
LOCATION:
UID:e.87.21607
SEQUENCE:3
DTSTAMP:20260423T232243Z
URL:https://tourism.rfchamber.com/events/details/royalty-alumni-float-registration-21607
END:VEVENT

END:VCALENDAR
