BEGIN:VCALENDAR
VERSION:2.0
PRODID:-//ChamberMaster//Event Calendar 2.0//EN
METHOD:PUBLISH
X-PUBLISHED-TTL:P3D
REFRESH-INTERVAL:P3D
CALSCALE:GREGORIAN
BEGIN:VEVENT
DTSTART:20240714T160000Z
DTEND:20240714T210000Z
X-MICROSOFT-CDO-ALLDAYEVENT:FALSE
SUMMARY:River Falls Days Car Cruze on Main Street
DESCRIPTION:Bring your favorite summer ride\, friends\, and family to enjoy a great afternoon on historic downtown Main Street!
X-ALT-DESC;FMTTYPE=text/html:<div class="xdj266r x11i5rnm xat24cr x1mh8g0r x1vvkbs" style="margin: 0px\; overflow-wrap: break-word\; font-family: &quot\;Segoe UI Historic&quot\;\, &quot\;Segoe UI&quot\;\, Helvetica\, Arial\, sans-serif\; color: rgb(5\, 5\, 5)\; font-size: 15px\;"><span style="font-size:14px\;"><span style="font-family:arial\;">Bring your favorite summer ride\, friends\, and family to enjoy a great afternoon on historic downtown Main Street!</span></span></div>\n
LOCATION:
UID:e.87.21612
SEQUENCE:3
DTSTAMP:20260423T232743Z
URL:https://tourism.rfchamber.com/events/details/river-falls-days-car-cruze-on-main-street-21612
END:VEVENT

END:VCALENDAR
