BEGIN:VCALENDAR
VERSION:2.0
PRODID:-//ChamberMaster//Event Calendar 2.0//EN
METHOD:PUBLISH
X-PUBLISHED-TTL:P3D
REFRESH-INTERVAL:P3D
CALSCALE:GREGORIAN
BEGIN:VEVENT
DTSTART:20241221T000000Z
DTEND:20241221T030000Z
X-MICROSOFT-CDO-ALLDAYEVENT:FALSE
SUMMARY:Ride for Rudesill 60/40 Raffle @ The Garage
DESCRIPTION:
X-ALT-DESC;FMTTYPE=text/html:
LOCATION:
UID:e.87.23350
SEQUENCE:3
DTSTAMP:20260424T061754Z
URL:https://tourism.rfchamber.com/events/details/ride-for-rudesill-60-40-raffle-the-garage-12-20-2024-23350
END:VEVENT

END:VCALENDAR
