BEGIN:VCALENDAR
VERSION:2.0
PRODID:-//ChamberMaster//Event Calendar 2.0//EN
METHOD:PUBLISH
X-PUBLISHED-TTL:P3D
REFRESH-INTERVAL:P3D
CALSCALE:GREGORIAN
BEGIN:VEVENT
DTSTART:20260519T200000Z
DTEND:20260519T210000Z
X-MICROSOFT-CDO-ALLDAYEVENT:FALSE
SUMMARY:Ribbon Cutting for The Commerce - Trademark Collection by Wyndham
DESCRIPTION:Join the River Falls Chamber of Commerce and Tourism Bureau for an afternoon of networking and celebration as we host a ribbon-cutting ceremony for The Commerce   Trademark Collection by Wyndham!\n\nLocated right in our own backyard in the Northern Driftless Region\, The Commerce offers a refined and relaxing experience for business travelers\, university visitors\, and weekend explorers alike. Undergoing renovations\, the hotel now features 46 guestrooms with premium amenities\, a cozy lobby with a fireplace\, and the largest indoor heated pool and spa in River Falls.\n\nWe invite you to tour their updated facilities\, meet the welcoming staff\, and learn more about how they can help host your next local gathering.\n\n\n	\n	When: May 19\, 2026\, at 3:00 p.m.\n	\n	\n	Where: 1525 Commerce Court\, River Falls\, WI 54022
X-ALT-DESC;FMTTYPE=text/html:<p data-path-to-node="0">Join the River Falls Chamber of Commerce and Tourism Bureau for an afternoon of networking and celebration as we host a ribbon-cutting ceremony for <b data-index-in-node="148" data-path-to-node="0">The Commerce &ndash\; Trademark Collection by Wyndham</b>!</p>\n\n<p data-path-to-node="1">Located right in our own backyard in the Northern Driftless Region\, The Commerce offers a refined and relaxing experience for business travelers\, university visitors\, and weekend explorers alike. Undergoing renovations\, the hotel now features 46 guestrooms with premium amenities\, a cozy lobby with a fireplace\, and the largest indoor heated pool and spa in River Falls.</p>\n\n<p data-path-to-node="2">We invite you to tour their updated facilities\, meet the welcoming staff\, and learn more about how they can help host your next local gathering.</p>\n\n<ul data-path-to-node="3">\n	<li>\n	<p data-path-to-node="3\,0\,0"><b data-index-in-node="0" data-path-to-node="3\,0\,0">When:</b> May 19\, 2026\, at 3:00 p.m.</p>\n	</li>\n	<li>\n	<p data-path-to-node="3\,1\,0"><b data-index-in-node="0" data-path-to-node="3\,1\,0">Where:</b> 1525 Commerce Court\, River Falls\, WI 54022</p>\n	</li>\n</ul>\n
LOCATION:
UID:e.87.24401
SEQUENCE:3
DTSTAMP:20260420T104251Z
URL:https://tourism.rfchamber.com/events/details/ribbon-cutting-for-the-commerce-trademark-collection-by-wyndham-24401
END:VEVENT

END:VCALENDAR
