BEGIN:VCALENDAR
VERSION:2.0
PRODID:-//ChamberMaster//Event Calendar 2.0//EN
METHOD:PUBLISH
X-PUBLISHED-TTL:P3D
REFRESH-INTERVAL:P3D
CALSCALE:GREGORIAN
BEGIN:VEVENT
DTSTART:20260130T003000Z
DTEND:20260130T020000Z
X-MICROSOFT-CDO-ALLDAYEVENT:FALSE
SUMMARY:Radical Imagination for Climate Hopeful Futures Watch Party
DESCRIPTION:This event is part of the Sustainability Speakers Series. The presentation is virtual only so Hope for Earth is planning a Watch Party to bring people together! You can watch the presentation live through the River Falls Public Library Facebook and YouTube pages\, or you can join Hope for Earth for the in-person watch party at Junior's Restaurant with free appetizers and beverage ticket. RSVP for in-person watch party required at https://forms.gle/7AmLCVboDEpB2jL9A Presentation Description: Radical Imaginations for Climate Hopeful Futures Part of the Sustainability Speakers Series As a world\, we are faced with apocalyptic futures that seem pre-determined. At the same time\, climate challenged realities are being normalized in the news as well as the lived reality of our communities. How do we create climate hopeful futures when everything feels awful? How do we need to shift our education and our imaginations to create futures that are hopeful for our young people and ourselves? And how do we do this from a place of scientific truth about the reality of our situation. This presentation will feature Lil Milagro Henriquez\, Founder and Executive Director of the Mycelium Youth Network\, as she shares how we can build climate-resilient\, hopeful futures grounded in scientific truth.
X-ALT-DESC;FMTTYPE=text/html:This event is part of the Sustainability Speakers Series. The presentation is virtual only so Hope for Earth is planning a Watch Party to bring people together! You can watch the presentation live through the River Falls Public Library Facebook and YouTube pages\, or you can join Hope for Earth for the in-person watch party at Junior&rsquo\;s Restaurant with free appetizers and beverage ticket. RSVP for in-person watch party required at https://forms.gle/7AmLCVboDEpB2jL9A Presentation Description: Radical Imaginations for Climate Hopeful Futures Part of the Sustainability Speakers Series As a world\, we are faced with apocalyptic futures that seem pre-determined. At the same time\, climate challenged realities are being normalized in the news as well as the lived reality of our communities. How do we create climate hopeful futures when everything feels awful? How do we need to shift our education and our imaginations to create futures that are hopeful for our young people and ourselves? And how do we do this from a place of scientific truth about the reality of our situation. This presentation will feature Lil Milagro Henriquez\, Founder and Executive Director of the Mycelium Youth Network\, as she shares how we can build climate-resilient\, hopeful futures grounded in scientific truth.
LOCATION:You can watch the presentation live through the River Falls Public Library Facebook and YouTube pages\, or you can join Hope for Earth for the in-person watch party at Junior's Restaurant. RSVP for in-person watch party required at https://forms.gle/7AmLCVboDEpB2jL9A
UID:e.87.24163
SEQUENCE:3
DTSTAMP:20260421T153900Z
URL:https://tourism.rfchamber.com/events/details/radical-imagination-for-climate-hopeful-futures-watch-party-24163
END:VEVENT

END:VCALENDAR
