BEGIN:VCALENDAR
VERSION:2.0
PRODID:-//ChamberMaster//Event Calendar 2.0//EN
METHOD:PUBLISH
X-PUBLISHED-TTL:P3D
REFRESH-INTERVAL:P3D
CALSCALE:GREGORIAN
BEGIN:VEVENT
DTSTART:20241220T000000Z
DTEND:20241220T020000Z
X-MICROSOFT-CDO-ALLDAYEVENT:FALSE
SUMMARY:Puzzle Night at Belle Ame Vineyard
DESCRIPTION:Whether you're a puzzle enthusiast or just looking for a fun challenge\, this event is perfect for you! Test your problem-solving skills and compete against fellow puzzle lovers in a friendly and lively atmosphere.\n\nTeams of four will be challenged to solve a 500-piece "around the world" puzzle in 1.5 hours.\n\nThe winning team will be eligible for a prize consisting of Belle  me merchandise and a bottle of wine for each team member.\n\nMark your calendars and join us at Belle Ame Vineyard for an unforgettable puzzle contest experience. See you there!
X-ALT-DESC;FMTTYPE=text/html:<p>Whether you&#39\;re a puzzle enthusiast or just looking for a fun challenge\, this event is perfect for you! Test your problem-solving skills and compete against fellow puzzle lovers in a friendly and lively atmosphere.</p>\n\n<p>Teams of four will be challenged to solve a 500-piece &quot\;around the world&quot\; puzzle in 1.5 hours.</p>\n\n<p>The winning team will be eligible for a prize consisting of Belle &Acirc\;me merchandise and a bottle of wine for each team member.</p>\n\n<p>Mark your calendars and join us at Belle Ame Vineyard for an unforgettable <strong>puzzle contest</strong> experience. See you there!</p>\n
LOCATION:Belle Ame Vineyard W10829 875th Ave\, River Falls\, WI 54022
UID:e.87.23359
SEQUENCE:3
DTSTAMP:20260424T062417Z
URL:https://tourism.rfchamber.com/events/details/puzzle-night-at-belle-ame-vineyard-12-19-2024-23359
END:VEVENT

END:VCALENDAR
