BEGIN:VCALENDAR
VERSION:2.0
PRODID:-//ChamberMaster//Event Calendar 2.0//EN
METHOD:PUBLISH
X-PUBLISHED-TTL:P3D
REFRESH-INTERVAL:P3D
CALSCALE:GREGORIAN
BEGIN:VEVENT
DTSTART:20260119T160000Z
DTEND:20260119T210000Z
X-MICROSOFT-CDO-ALLDAYEVENT:FALSE
SUMMARY:Play in a Day
DESCRIPTION:Looking for a fun\, creative way for your child to spend their day off from school this fall? Join us for "A Play in a Day"\, a 4.5-hour theatre adventure where students (ages 8-14) will dive into a 25-30 minute one-act comedy! This year\, we're excited to add the Hudson\, Ellsworth & Prescott School Districts to the fun! During this class\, students will participate in a mini-audition\, establish their characters\, practice blocking and movement\, work with props and costumes\, and rehearse\, all leading to a live performance for friends and family by the end of the day! *Students should bring a packed lunch and a water bottle. Cost is $65/child ??Save your child's spot at www.wonderworkstheatre.com today!
X-ALT-DESC;FMTTYPE=text/html:Looking for a fun\, creative way for your child to spend their day off from school this fall? Join us for &quot\;A Play in a Day&quot\;\, a 4.5-hour theatre adventure where students (ages 8-14) will dive into a 25-30 minute one-act comedy! This year\, we&#39\;re excited to add the Hudson\, Ellsworth &amp\; Prescott School Districts to the fun! During this class\, students will participate in a mini-audition\, establish their characters\, practice blocking and movement\, work with props and costumes\, and rehearse\, all leading to a live performance for friends and family by the end of the day! *Students should bring a packed lunch and a water bottle. Cost is $65/child ??Save your child&#39\;s spot at www.wonderworkstheatre.com today!
LOCATION:WonderWorks Theatre 112 N. Main Street\, River Falls
UID:e.87.24167
SEQUENCE:3
DTSTAMP:20260421T153618Z
URL:https://tourism.rfchamber.com/events/details/play-in-a-day-24167
END:VEVENT

END:VCALENDAR
