BEGIN:VCALENDAR
VERSION:2.0
PRODID:-//ChamberMaster//Event Calendar 2.0//EN
METHOD:PUBLISH
X-PUBLISHED-TTL:P3D
REFRESH-INTERVAL:P3D
CALSCALE:GREGORIAN
BEGIN:VEVENT
DTSTART:20260201T200000Z
DTEND:20260201T230000Z
X-MICROSOFT-CDO-ALLDAYEVENT:FALSE
SUMMARY:Music in the Park Winter Concert
DESCRIPTION:Music in the Park goes indoors for two winter concerts. January 11: 2:00 Scott Liebers 3:00 Jim Ehlers 4:00 Tim Hennessy & John Niemann ------ February 1 2:00 Rudy Rudesill 3:00 Nici Peper 4:00 Keauna Shae & Jesse Katzman
X-ALT-DESC;FMTTYPE=text/html:Music in the Park goes indoors for two winter concerts. January 11: 2:00 Scott Liebers 3:00 Jim Ehlers 4:00 Tim Hennessy &amp\; John Niemann ------ February 1 2:00 Rudy Rudesill 3:00 Nici Peper 4:00 Keauna Shae &amp\; Jesse Katzman
LOCATION:Junior's Restaurant & Tap House 414 S Main St.
UID:e.87.24170
SEQUENCE:3
DTSTAMP:20260421T171848Z
URL:https://tourism.rfchamber.com/events/details/music-in-the-park-winter-concert-24170
END:VEVENT

END:VCALENDAR
