BEGIN:VCALENDAR
VERSION:2.0
PRODID:-//ChamberMaster//Event Calendar 2.0//EN
METHOD:PUBLISH
X-PUBLISHED-TTL:P3D
REFRESH-INTERVAL:P3D
CALSCALE:GREGORIAN
BEGIN:VEVENT
DTSTART:20260626T000000Z
DTEND:20260626T020000Z
X-MICROSOFT-CDO-ALLDAYEVENT:FALSE
SUMMARY:Music in the Park - Trent Romens
DESCRIPTION:Modern blues/soul jam band with an old soulful voice ----- Trent Romens Band is a Blues-Soul-Jam band hailing from the Twin Cities. Fronted by longtime local blues guitarist Trent Romens\, this band is a culmination of Trent's ability to write songs and captivate an audience. Starting out on the local music scene when he was only 13\, Trent has been turning heads and forming a new familiar sound. From his early days as a blues-rock guitar phenom to his current incarnation as a mature player and thoughtful songwriter\, Trent Romens has been a mainstay on the midwestern music scene for years. In addition to opening for national acts including Tedeschi Trucks Band\, Jimmie Vaughn\, and Soul Asylum\, he has made prominent appearances at some of the most renowned blues festivals in the region. Now\, after a brief hiatus\, he is returning with the most compelling music of his career.
X-ALT-DESC;FMTTYPE=text/html:Modern blues/soul jam band with an old soulful voice ----- Trent Romens Band is a Blues-Soul-Jam band hailing from the Twin Cities. Fronted by longtime local blues guitarist Trent Romens\, this band is a culmination of Trent&#39\;s ability to write songs and captivate an audience. Starting out on the local music scene when he was only 13\, Trent has been turning heads and forming a new familiar sound. From his early days as a blues-rock guitar phenom to his current incarnation as a mature player and thoughtful songwriter\, Trent Romens has been a mainstay on the midwestern music scene for years. In addition to opening for national acts including Tedeschi Trucks Band\, Jimmie Vaughn\, and Soul Asylum\, he has made prominent appearances at some of the most renowned blues festivals in the region. Now\, after a brief hiatus\, he is returning with the most compelling music of his career.
LOCATION:Veterans Park
UID:e.87.24367
SEQUENCE:3
DTSTAMP:20260421T231450Z
URL:https://tourism.rfchamber.com/events/details/music-in-the-park-trent-romens-24367
END:VEVENT

END:VCALENDAR
