BEGIN:VCALENDAR
VERSION:2.0
PRODID:-//ChamberMaster//Event Calendar 2.0//EN
METHOD:PUBLISH
X-PUBLISHED-TTL:P3D
REFRESH-INTERVAL:P3D
CALSCALE:GREGORIAN
BEGIN:VEVENT
DTSTART:20260724T000000Z
DTEND:20260724T020000Z
X-MICROSOFT-CDO-ALLDAYEVENT:FALSE
SUMMARY:Music in the Park - Tommy Bentz Band
DESCRIPTION:Original blues/rock with a jazz feel ----- Tommy Bentz's sound gives credence to the fact that many faces and different genres of music have allowed him to create his own sound: one that blends ideals from many flavors of music into one (kind of like at the ice cream store he managed as a teen). The distinct movement\, layering\, and syncopation of his style\, though intense\, is immediately accessible to the listener. Some may say that Tommy Bentz's greatest asset is his confident and mature electric slide guitar style\; others will argue that his insightful lyrics and adept layering of sound are what keep them coming back to hear him play again and again. Regardless\, with three full length albums under his belt - each a landmark of musical growth in a coming-of-age fashion\, Tommy Bentz represents a man with spirit\, drive\, thoughtful journeys\, and musical ability that so many musicians strive to achieve.
X-ALT-DESC;FMTTYPE=text/html:Original blues/rock with a jazz feel ----- Tommy Bentz&rsquo\;s sound gives credence to the fact that many faces and different genres of music have allowed him to create his own sound: one that blends ideals from many flavors of music into one (kind of like at the ice cream store he managed as a teen). The distinct movement\, layering\, and syncopation of his style\, though intense\, is immediately accessible to the listener. Some may say that Tommy Bentz&#39\;s greatest asset is his confident and mature electric slide guitar style\; others will argue that his insightful lyrics and adept layering of sound are what keep them coming back to hear him play again and again. Regardless\, with three full length albums under his belt - each a landmark of musical growth in a coming-of-age fashion\, Tommy Bentz represents a man with spirit\, drive\, thoughtful journeys\, and musical ability that so many musicians strive to achieve.
LOCATION:Veterans Park
UID:e.87.24370
SEQUENCE:3
DTSTAMP:20260422T004614Z
URL:https://tourism.rfchamber.com/events/details/music-in-the-park-tommy-bentz-band-07-23-2026-24370
END:VEVENT

END:VCALENDAR
