BEGIN:VCALENDAR
VERSION:2.0
PRODID:-//ChamberMaster//Event Calendar 2.0//EN
METHOD:PUBLISH
X-PUBLISHED-TTL:P3D
REFRESH-INTERVAL:P3D
CALSCALE:GREGORIAN
BEGIN:VEVENT
DTSTART:20260821T000000Z
DTEND:20260821T020000Z
X-MICROSOFT-CDO-ALLDAYEVENT:FALSE
SUMMARY:Music in the Park - The Denny Cooper Band
DESCRIPTION:Great songs from the '50s\, '60s\, '70s\, and beyond
X-ALT-DESC;FMTTYPE=text/html:Great songs from the &#39\;50s\, &#39\;60s\, &#39\;70s\, and beyond
LOCATION:Veterans Park
UID:e.87.24374
SEQUENCE:3
DTSTAMP:20260422T021409Z
URL:https://tourism.rfchamber.com/events/details/music-in-the-park-the-denny-cooper-band-24374
END:VEVENT

END:VCALENDAR
