BEGIN:VCALENDAR
VERSION:2.0
PRODID:-//ChamberMaster//Event Calendar 2.0//EN
METHOD:PUBLISH
X-PUBLISHED-TTL:P3D
REFRESH-INTERVAL:P3D
CALSCALE:GREGORIAN
BEGIN:VEVENT
DTSTART:20260731T000000Z
DTEND:20260731T020000Z
X-MICROSOFT-CDO-ALLDAYEVENT:FALSE
SUMMARY:Music in the Park - Scottie Miller Quintet
DESCRIPTION:Dynamic pianist and singer-songwriter with a unique blend of blues\, jazz\, and Americana ----- Scottie Miller\, the dynamic pianist and singer-songwriter\, is captivating audiences worldwide with his soulful melodies and masterful compositions. With a career spanning decades\, Miller's musical prowess has garnered critical acclaim and a dedicated fanbase. Miller's recent achievements include being honored as the "Artist of the Year" by Bluebird Reviews in 2023 for his compelling poetry book and album "Carnival Cocoon." His collaboration with blues sensation Ruthie Foster on her Grammy -nominated album "Healing Time" has further solidified his position in the music industry. Miller's contributions to the album\, including co-writing the title track and other standout songs\, highlight his versatility and creativity. At the 2024 Blues Music Awards\, Miller\, along with his bandmates from Ruthie Foster\, secured the prestigious Song of the Year award for "What Kind of Fool" (Foster/Sayers/Miller)\, enhancing Miller's reputation as an influential songwriter and performer in the music scene. When not touring with Foster\, Miller continues to mesmerize audiences with his captivating performances in his hometown of the Twin Cities and beyond. With his unique blend of blues\, jazz\, and Americana\, Scottie Miller is undeniably a force to be reckoned with in the music industry\, and his star is only on the rise.
X-ALT-DESC;FMTTYPE=text/html:Dynamic pianist and singer-songwriter with a unique blend of blues\, jazz\, and Americana ----- Scottie Miller\, the dynamic pianist and singer-songwriter\, is captivating audiences worldwide with his soulful melodies and masterful compositions. With a career spanning decades\, Miller&rsquo\;s musical prowess has garnered critical acclaim and a dedicated fanbase. Miller&rsquo\;s recent achievements include being honored as the &ldquo\;Artist of the Year&rdquo\; by Bluebird Reviews in 2023 for his compelling poetry book and album &ldquo\;Carnival Cocoon.&rdquo\; His collaboration with blues sensation Ruthie Foster on her Grammy&reg\;-nominated album &ldquo\;Healing Time&rdquo\; has further solidified his position in the music industry. Miller&#39\;s contributions to the album\, including co-writing the title track and other standout songs\, highlight his versatility and creativity. At the 2024 Blues Music Awards\, Miller\, along with his bandmates from Ruthie Foster\, secured the prestigious Song of the Year award for &ldquo\;What Kind of Fool&rdquo\; (Foster/Sayers/Miller)\, enhancing Miller&rsquo\;s reputation as an influential songwriter and performer in the music scene. When not touring with Foster\, Miller continues to mesmerize audiences with his captivating performances in his hometown of the Twin Cities and beyond. With his unique blend of blues\, jazz\, and Americana\, Scottie Miller is undeniably a force to be reckoned with in the music industry\, and his star is only on the rise.
LOCATION:Veterans Park
UID:e.87.24371
SEQUENCE:3
DTSTAMP:20260422T004531Z
URL:https://tourism.rfchamber.com/events/details/music-in-the-park-scottie-miller-quintet-24371
END:VEVENT

END:VCALENDAR
