BEGIN:VCALENDAR
VERSION:2.0
PRODID:-//ChamberMaster//Event Calendar 2.0//EN
METHOD:PUBLISH
X-PUBLISHED-TTL:P3D
REFRESH-INTERVAL:P3D
CALSCALE:GREGORIAN
BEGIN:VEVENT
DTSTART:20260703T000000Z
DTEND:20260703T020000Z
X-MICROSOFT-CDO-ALLDAYEVENT:FALSE
SUMMARY:Music in the Park - Little Wing
DESCRIPTION:Soulful\, bluesy Americana
X-ALT-DESC;FMTTYPE=text/html:Soulful\, bluesy Americana
LOCATION:Veterans Park
UID:e.87.24368
SEQUENCE:3
DTSTAMP:20260422T004347Z
URL:https://tourism.rfchamber.com/events/details/music-in-the-park-little-wing-24368
END:VEVENT

END:VCALENDAR
