BEGIN:VCALENDAR
VERSION:2.0
PRODID:-//ChamberMaster//Event Calendar 2.0//EN
METHOD:PUBLISH
X-PUBLISHED-TTL:P3D
REFRESH-INTERVAL:P3D
CALSCALE:GREGORIAN
BEGIN:VEVENT
DTSTART:20260828T000000Z
DTEND:20260828T020000Z
X-MICROSOFT-CDO-ALLDAYEVENT:FALSE
SUMMARY:Music in the Park - Lehto & Wright
DESCRIPTION:British Isles and American folk traditions with electrifying\, guitar-driven arrangements ----- Minnesota's folk-rock & progressive rock innovators\, celebrating 25 years in 2025 with their boldest album yet. Since 1999\, John Wright\, Steve Lehto\, and Matt Jacobs have blended British Isles and American folk traditions with electrifying\, guitar-driven arrangements. Seven studio albums\, one live release\, and still evolving stay tuned for the next chapter.
X-ALT-DESC;FMTTYPE=text/html:British Isles and American folk traditions with electrifying\, guitar-driven arrangements ----- Minnesota&rsquo\;s folk-rock &amp\; progressive rock innovators\, celebrating 25 years in 2025 with their boldest album yet. Since 1999\, John Wright\, Steve Lehto\, and Matt Jacobs have blended British Isles and American folk traditions with electrifying\, guitar-driven arrangements. Seven studio albums\, one live release\, and still evolving&mdash\;stay tuned for the next chapter.
LOCATION:Veterans Park
UID:e.87.24375
SEQUENCE:3
DTSTAMP:20260422T021332Z
URL:https://tourism.rfchamber.com/events/details/music-in-the-park-lehto-wright-24375
END:VEVENT

END:VCALENDAR
