BEGIN:VCALENDAR
VERSION:2.0
PRODID:-//ChamberMaster//Event Calendar 2.0//EN
METHOD:PUBLISH
X-PUBLISHED-TTL:P3D
REFRESH-INTERVAL:P3D
CALSCALE:GREGORIAN
BEGIN:VEVENT
DTSTART:20260807T000000Z
DTEND:20260807T020000Z
X-MICROSOFT-CDO-ALLDAYEVENT:FALSE
SUMMARY:Music in the Park - Cruzando
DESCRIPTION:A Latin music adventure ----- Cruzando\, a band with Joe Cruz on nylon string and electric guitars\, Puerto Rican cuatro\, and Cuban tres\, takes listeners on a Latin Music adventure. With singer Estibaliz Anabella and a rhythm section including bass\, drum set\, and congas\, Cruzando pays tribute to classic Cuban Son and boleros from the Buena Vista Social Club\, including hits like Chann Chann\, El Cuarto de Tula\, and Dos Gardenias. Their musical journey continues to Puerto Rico\, where they perform En Viejo San Juan featuring the Puerto Rican cuatro. Cruzando also covers artists like Celia Cruz\, Gloria Estefan\, Polo Monta ez\, and even Santana\, showcasing a wide range of musical styles.
X-ALT-DESC;FMTTYPE=text/html:A Latin music adventure ----- Cruzando\, a band with Joe Cruz on nylon string and electric guitars\, Puerto Rican cuatro\, and Cuban tres\, takes listeners on a Latin Music adventure. With singer Estibaliz Anabella and a rhythm section including bass\, drum set\, and congas\, Cruzando pays tribute to classic Cuban Son and boleros from the Buena Vista Social Club\, including hits like Chann Chann\, El Cuarto de Tula\, and Dos Gardenias. Their musical journey continues to Puerto Rico\, where they perform En Viejo San Juan featuring the Puerto Rican cuatro. Cruzando also covers artists like Celia Cruz\, Gloria Estefan\, Polo Monta&ntilde\;ez\, and even Santana\, showcasing a wide range of musical styles.
LOCATION:Veterans Park
UID:e.87.24372
SEQUENCE:3
DTSTAMP:20260422T021438Z
URL:https://tourism.rfchamber.com/events/details/music-in-the-park-cruzando-24372
END:VEVENT

END:VCALENDAR
