BEGIN:VCALENDAR
VERSION:2.0
PRODID:-//ChamberMaster//Event Calendar 2.0//EN
METHOD:PUBLISH
X-PUBLISHED-TTL:P3D
REFRESH-INTERVAL:P3D
CALSCALE:GREGORIAN
BEGIN:VEVENT
DTSTART:20260619T000000Z
DTEND:20260619T020000Z
X-MICROSOFT-CDO-ALLDAYEVENT:FALSE
SUMMARY:Music in the Park - Chris Silver Band
DESCRIPTION:The finest in bluegrass and Americana --- Roots music renaissance performer and multi-instrumentalist Chris Silver has made a name for himself as a songwriter and is known throughout the U.S. for his virtuosity on guitar\, mandolin\, and fiddle. His music is soulful and innovative and takes the listener to a musical space where Americana roots music is fused with jazz\, blues\, folk\, and country with the sensibility of a contemporary singer/songwriter.
X-ALT-DESC;FMTTYPE=text/html:The finest in bluegrass and Americana --- Roots music renaissance performer and multi-instrumentalist Chris Silver has made a name for himself as a songwriter and is known throughout the U.S. for his virtuosity on guitar\, mandolin\, and fiddle. His music is soulful and innovative and takes the listener to a musical space where Americana roots music is fused with jazz\, blues\, folk\, and country with the sensibility of a contemporary singer/songwriter.
LOCATION:Veterans Park
UID:e.87.24366
SEQUENCE:3
DTSTAMP:20260421T231349Z
URL:https://tourism.rfchamber.com/events/details/music-in-the-park-chris-silver-band-24366
END:VEVENT

END:VCALENDAR
