BEGIN:VCALENDAR
VERSION:2.0
PRODID:-//ChamberMaster//Event Calendar 2.0//EN
METHOD:PUBLISH
X-PUBLISHED-TTL:P3D
REFRESH-INTERVAL:P3D
CALSCALE:GREGORIAN
BEGIN:VEVENT
DTSTART:20260612T000000Z
DTEND:20260612T020000Z
X-MICROSOFT-CDO-ALLDAYEVENT:FALSE
SUMMARY:Music in the Park - Charlie Parr
DESCRIPTION:Internationally and crucially acclaimed blues/folk singer-songwriter We. Are. So. Excited to welcome back Charlie Parr to our 2026 Music in the Park Concert Series! This internationally and critically acclaimed blues/folk singer-songwriter always puts on a fantastic show to the delight of his legions of fans. A review from Americana Highways on Charlie's album "Last of the Better Days Ahead": "If there ever was a reincarnation of Robert Johnson\, Charlie Patton\, Leadbelly or any other of the true acoustic and folk blues masters\, Parr is as close as you will ever get." Food trucks will be on site as well. Special guest\, local singer-songwriter Tommy Bentz will open the show. Spread the word and bring your friends\, this is going to be one of the concerts of the year for River Falls!
X-ALT-DESC;FMTTYPE=text/html:Internationally and crucially acclaimed blues/folk singer-songwriter We. Are. So. Excited to welcome back Charlie Parr to our 2026 Music in the Park Concert Series! This internationally and critically acclaimed blues/folk singer-songwriter always puts on a fantastic show to the delight of his legions of fans. A review from Americana Highways on Charlie&#39\;s album &quot\;Last of the Better Days Ahead&quot\;: &quot\;If there ever was a reincarnation of Robert Johnson\, Charlie Patton\, Leadbelly or any other of the true acoustic and folk blues masters\, Parr is as close as you will ever get.&quot\; Food trucks will be on site as well. Special guest\, local singer-songwriter Tommy Bentz will open the show. Spread the word and bring your friends\, this is going to be one of the concerts of the year for River Falls!
LOCATION:Heritage Park
UID:e.87.24365
SEQUENCE:3
DTSTAMP:20260421T231521Z
URL:https://tourism.rfchamber.com/events/details/music-in-the-park-charlie-parr-24365
END:VEVENT

END:VCALENDAR
