BEGIN:VCALENDAR
VERSION:2.0
PRODID:-//ChamberMaster//Event Calendar 2.0//EN
METHOD:PUBLISH
X-PUBLISHED-TTL:P3D
REFRESH-INTERVAL:P3D
CALSCALE:GREGORIAN
BEGIN:VEVENT
DTSTART;VALUE=DATE:20260307
DTEND;VALUE=DATE:20260308
TRANSP:TRANSPARENT
X-MICROSOFT-CDO-ALLDAYEVENT:TRUE
SUMMARY:Blooming Fundraiser for Moose Lodge
DESCRIPTION:Purchase "Buds Blooms" during Moose National Days and $5 from each purchase will be donated to the Moose Lodge Community Givings.  Purchase during business hours at Blooms 4 Happiness Floral Shop located at 1674 Commerce Circle\, River Falls or\, at the Moose Lodge during the March 8th brunch (9am-12noon) or Friday March 13th mystery dinner after 5:30pm.
X-ALT-DESC;FMTTYPE=text/html:Purchase &quot\;Buds Blooms&quot\; during Moose National Days and $5 from each purchase will be donated to the Moose Lodge Community Givings.&nbsp\; Purchase during business hours at Blooms 4 Happiness Floral Shop located at 1674 Commerce Circle\, River Falls or\, at the Moose Lodge during the March 8th brunch (9am-12noon) or Friday March 13th mystery dinner after 5:30pm.&nbsp\;&nbsp\;
LOCATION:Blooms 4 Happiness Floral Shop 1674 Commerce Circle River Falls\, WI 54022
UID:e.87.24263
SEQUENCE:3
DTSTAMP:20260421T201103Z
URL:https://tourism.rfchamber.com/events/details/moose-lodge-blooming-fundraiser-03-07-2026-24263
END:VEVENT

END:VCALENDAR
