BEGIN:VCALENDAR
VERSION:2.0
PRODID:-//ChamberMaster//Event Calendar 2.0//EN
METHOD:PUBLISH
X-PUBLISHED-TTL:P3D
REFRESH-INTERVAL:P3D
CALSCALE:GREGORIAN
BEGIN:VEVENT
DTSTART:20240810T140000Z
DTEND:20240810T150000Z
X-MICROSOFT-CDO-ALLDAYEVENT:FALSE
SUMMARY:Mindfulness in the Garden
DESCRIPTION:Come join us for sensory-focused mindfulness activities. Connect with the beauty and power of nature in community\, and take action to create a healthier and happier world. \n\n\n\nAttend all four sessions\, or as many as possible for you!\n\nMay 11th - Mindfulness & Sustainability\n\nJune 8th - What Lens Am I Using\n\nJuly 13th - Finding Peace\n\nAugust 10th - Mindful Eating
X-ALT-DESC;FMTTYPE=text/html:Come join us for sensory-focused mindfulness activities. Connect with the beauty and power of nature in community\, and take action to create a healthier and happier world.&nbsp\;<br />\n<br />\nAttend all four sessions\, or as many as possible for you!<br />\nMay 11th - Mindfulness &amp\; Sustainability<br />\nJune 8th - What Lens Am I Using<br />\nJuly 13th - Finding Peace<br />\nAugust 10th - Mindful Eating
LOCATION:Grow to Share Gardens Hoffman Park 547 Hanson Drive\, River Falls WI 54022
UID:e.87.21574
SEQUENCE:3
DTSTAMP:20260423T232703Z
URL:https://tourism.rfchamber.com/events/details/mindfulness-in-the-garden-08-10-2024-21574
END:VEVENT

END:VCALENDAR
