BEGIN:VCALENDAR
VERSION:2.0
PRODID:-//ChamberMaster//Event Calendar 2.0//EN
METHOD:PUBLISH
X-PUBLISHED-TTL:P3D
REFRESH-INTERVAL:P3D
CALSCALE:GREGORIAN
BEGIN:VEVENT
DTSTART:20251224T180000Z
DTEND:20251225T060000Z
X-MICROSOFT-CDO-ALLDAYEVENT:FALSE
SUMMARY:Merry Christmas from The Garage Crew!
DESCRIPTION:Closed at noon on Christmas Eve and Christmas Day
X-ALT-DESC;FMTTYPE=text/html:<strong>Closed at noon on Christmas Eve and Christmas Day</strong>
LOCATION:109 West Cedar StreetRiver Falls\, WI
UID:e.87.24127
SEQUENCE:3
DTSTAMP:20260421T135322Z
URL:https://tourism.rfchamber.com/events/details/merry-christmas-from-the-garage-crew-24127
END:VEVENT

END:VCALENDAR
