BEGIN:VCALENDAR
VERSION:2.0
PRODID:-//ChamberMaster//Event Calendar 2.0//EN
METHOD:PUBLISH
X-PUBLISHED-TTL:P3D
REFRESH-INTERVAL:P3D
CALSCALE:GREGORIAN
BEGIN:VEVENT
DTSTART:20240507T180000Z
DTEND:20240507T190000Z
X-MICROSOFT-CDO-ALLDAYEVENT:FALSE
SUMMARY:LockTight Storage Ribbon Cutting Event
DESCRIPTION:
X-ALT-DESC;FMTTYPE=text/html:<p class="cvGsUA direction-ltr align-center para-style-body" style="color: rgb(0\, 0\, 0)\; font-family: &quot\;YACgETiWKS8 0&quot\;\, _fb_\, auto\; --font-size: 29.9994px\; --line-height: 1.4\; letter-spacing: 0.114em\; line-height: 41px\;">&nbsp\;</p>\n\n<p class="cvGsUA direction-ltr align-center para-style-body" style="color: rgb(0\, 0\, 0)\; font-family: &quot\;YACgETiWKS8 0&quot\;\, _fb_\, auto\; --font-size: 29.9994px\; --line-height: 1.4\; letter-spacing: 0.114em\; line-height: 41px\;">&nbsp\;</p>\n
LOCATION:1215 Old Chapman Dr\, River Falls\, WI 54022
UID:e.87.21550
SEQUENCE:3
DTSTAMP:20260423T230848Z
URL:https://tourism.rfchamber.com/events/details/locktight-storage-ribbon-cutting-event-21550
END:VEVENT

END:VCALENDAR
