BEGIN:VCALENDAR
VERSION:2.0
PRODID:-//ChamberMaster//Event Calendar 2.0//EN
METHOD:PUBLISH
X-PUBLISHED-TTL:P3D
REFRESH-INTERVAL:P3D
CALSCALE:GREGORIAN
BEGIN:VEVENT
DTSTART:20251228T000000Z
DTEND:20251228T030000Z
X-MICROSOFT-CDO-ALLDAYEVENT:FALSE
SUMMARY:Live Music - Trent Romans Duo @ The Garage Bikes + Brews
DESCRIPTION:All day! Prizes for the ones who kill the keg and LIVE Music Featuring Trent Romans Duo.
X-ALT-DESC;FMTTYPE=text/html:<span style="color:rgb(8\, 8\, 9)\; font-family:system-ui\,-apple-system\,system-ui\,.sfnstext-regular\,sans-serif\; font-size:15px">All day! Prizes for the ones who kill the keg and LIVE Music Featuring Trent Romans Duo.</span>
LOCATION:The Garage Bikes + Brews
UID:e.87.24129
SEQUENCE:3
DTSTAMP:20260421T135457Z
URL:https://tourism.rfchamber.com/events/details/live-music-trent-romans-duo-the-garage-bikes-brews-24129
END:VEVENT

END:VCALENDAR
