BEGIN:VCALENDAR
VERSION:2.0
PRODID:-//ChamberMaster//Event Calendar 2.0//EN
METHOD:PUBLISH
X-PUBLISHED-TTL:P3D
REFRESH-INTERVAL:P3D
CALSCALE:GREGORIAN
BEGIN:VEVENT
DTSTART:20230514T190000Z
DTEND:20230514T220000Z
X-MICROSOFT-CDO-ALLDAYEVENT:FALSE
SUMMARY:Live Music: The Jugsluggers
DESCRIPTION:Join us at The Garage Bikes + Brews in River Falls\, WI for live music featuring The Jugsluggers - a string band playing everything from bluegrass to country to classic rock and more!\n\nCheck out our full calendar of events for live music\, food trucks\, and all of the fun you'll find at The Garage!
X-ALT-DESC;FMTTYPE=text/html:<div>Join us at The Garage Bikes + Brews in River Falls\, WI for live music featuring The Jugsluggers - a string band playing everything from bluegrass to country to classic rock and more!</div>\n\n<div>Check out our full calendar of events for live music\, food trucks\, and all of the fun you&#39\;ll find at The Garage!</div>\n
LOCATION:The Garage Bikes + Brews
UID:e.87.20512
SEQUENCE:3
DTSTAMP:20260420T060127Z
URL:https://tourism.rfchamber.com/events/details/live-music-the-jugsluggers-20512
END:VEVENT

END:VCALENDAR
