BEGIN:VCALENDAR
VERSION:2.0
PRODID:-//ChamberMaster//Event Calendar 2.0//EN
METHOD:PUBLISH
X-PUBLISHED-TTL:P3D
REFRESH-INTERVAL:P3D
CALSCALE:GREGORIAN
BEGIN:VEVENT
DTSTART:20241221T000000Z
DTEND:20241221T030000Z
X-MICROSOFT-CDO-ALLDAYEVENT:FALSE
SUMMARY:Live Music featuring Zeb Sears @ The Garage
DESCRIPTION:
X-ALT-DESC;FMTTYPE=text/html:
LOCATION:
UID:e.87.23349
SEQUENCE:3
DTSTAMP:20260424T062321Z
URL:https://tourism.rfchamber.com/events/details/live-music-featuring-zeb-sears-the-garage-23349
END:VEVENT

END:VCALENDAR
