BEGIN:VCALENDAR
VERSION:2.0
PRODID:-//ChamberMaster//Event Calendar 2.0//EN
METHOD:PUBLISH
X-PUBLISHED-TTL:P3D
REFRESH-INTERVAL:P3D
CALSCALE:GREGORIAN
BEGIN:VEVENT
DTSTART:20241214T230000Z
DTEND:20241215T020000Z
X-MICROSOFT-CDO-ALLDAYEVENT:FALSE
SUMMARY:Live Music featuring Tony Cuchetti @ The Garage
DESCRIPTION:
X-ALT-DESC;FMTTYPE=text/html:
LOCATION:
UID:e.87.23342
SEQUENCE:3
DTSTAMP:20260424T062219Z
URL:https://tourism.rfchamber.com/events/details/live-music-featuring-tony-cuchetti-the-garage-23342
END:VEVENT

END:VCALENDAR
