BEGIN:VCALENDAR
VERSION:2.0
PRODID:-//ChamberMaster//Event Calendar 2.0//EN
METHOD:PUBLISH
X-PUBLISHED-TTL:P3D
REFRESH-INTERVAL:P3D
CALSCALE:GREGORIAN
BEGIN:VEVENT
DTSTART:20260205T003000Z
DTEND:20260205T020000Z
X-MICROSOFT-CDO-ALLDAYEVENT:FALSE
SUMMARY:Life Depends on Rivers: How Healthy Rivers Support Strong Communities
DESCRIPTION:Attend in-person in the UW-River Falls North Hall Auditorium\, room #222\, or virtually through the River Falls Public Library Facebook and YouTube pages. Life Depends on Rivers: How Healthy Rivers Support Strong Communities Part of the Sustainability Speakers Series Across cultures and generations\, rivers sustain life -- shaping where we live\, how we work\, and what we value. This talk examines the powerful role rivers play in our communities\, the health of our environment\, and our well-being in the face of increasingly extreme weather. Amy Souers Kober with American Rivers weaves together personal experience and scientific insight\, highlighting tangible benefits of river restoration\, including flood safety\, clean water supplies\, and habitat revitalization\, while offering a broader perspective on how connected\, healthy rivers can unite people across political and social lines. Attendees will leave with a deeper understanding of why caring for rivers is essential to caring for our communities\, now and for generations to come.
X-ALT-DESC;FMTTYPE=text/html:Attend in-person in the UW-River Falls North Hall Auditorium\, room #222\, or virtually through the River Falls Public Library Facebook and YouTube pages. Life Depends on Rivers: How Healthy Rivers Support Strong Communities Part of the Sustainability Speakers Series Across cultures and generations\, rivers sustain life -- shaping where we live\, how we work\, and what we value. This talk examines the powerful role rivers play in our communities\, the health of our environment\, and our well-being in the face of increasingly extreme weather. Amy Souers Kober with American Rivers weaves together personal experience and scientific insight\, highlighting tangible benefits of river restoration\, including flood safety\, clean water supplies\, and habitat revitalization\, while offering a broader perspective on how connected\, healthy rivers can unite people across political and social lines. Attendees will leave with a deeper understanding of why caring for rivers is essential to caring for our communities\, now and for generations to come.
LOCATION:Attend in-person in the UW River Falls North Hall Auditorium\, room #222\, or virtually through the River Falls Public Library Facebook and YouTube pages.
UID:e.87.24164
SEQUENCE:3
DTSTAMP:20260421T171844Z
URL:https://tourism.rfchamber.com/events/details/life-depends-on-rivers-how-healthy-rivers-support-strong-communities-24164
END:VEVENT

END:VCALENDAR
