BEGIN:VCALENDAR
VERSION:2.0
PRODID:-//ChamberMaster//Event Calendar 2.0//EN
METHOD:PUBLISH
X-PUBLISHED-TTL:P3D
REFRESH-INTERVAL:P3D
CALSCALE:GREGORIAN
BEGIN:VEVENT
DTSTART;VALUE=DATE:20250902
DTEND;VALUE=DATE:20250920
TRANSP:TRANSPARENT
X-MICROSOFT-CDO-ALLDAYEVENT:TRUE
SUMMARY:Leadership River Falls 2025-2026
DESCRIPTION:Leadership River Falls is dedicated to providing a comprehensive learning experience that cultivates community leadership while participants explore key community issues and avenues of involvement.\n\nDEADLINE DATE FOR REGISTRATION: Friday\, September 19\, 2025
X-ALT-DESC;FMTTYPE=text/html:<span class="a_GcMg font-feature-liga-off font-feature-clig-off font-feature-calt-off text-decoration-none text-strikethrough-none" style="color: rgba(0\,0\,0\,var(--O42jJQ\,1))\; caret-color: rgb(0\, 0\, 0)\; --Ys-XuQ: none\; font-kerning: none\;">Leadership River Falls is dedicated to providing a comprehensive learning experience that cultivates community leadership while participants explore key community issues and avenues of involvement.<br />\nDEADLINE DATE FOR REGISTRATION: Friday\, September 19\, 2025</span>
LOCATION:To be determined
UID:e.87.23998
SEQUENCE:3
DTSTAMP:20260419T131412Z
URL:https://tourism.rfchamber.com/events/details/leadership-river-falls-2025-2026-23998
END:VEVENT

END:VCALENDAR
