BEGIN:VCALENDAR
VERSION:2.0
PRODID:-//ChamberMaster//Event Calendar 2.0//EN
METHOD:PUBLISH
X-PUBLISHED-TTL:P3D
REFRESH-INTERVAL:P3D
CALSCALE:GREGORIAN
BEGIN:VEVENT
DTSTART:20251227T160000Z
DTEND:20251228T040000Z
X-MICROSOFT-CDO-ALLDAYEVENT:FALSE
SUMMARY:Kill the Kegs Party All Day!
DESCRIPTION:All day! Prizes for the ones who kill the keg and LIVE Music Featuring Trent Romans Duo.
X-ALT-DESC;FMTTYPE=text/html:<span style="color:rgb(8\, 8\, 9)\; font-family:system-ui\,-apple-system\,system-ui\,.sfnstext-regular\,sans-serif\; font-size:15px">All day! Prizes for the ones who kill the keg and LIVE Music Featuring Trent Romans Duo.</span>
LOCATION:109 West Cedar StreetRiver Falls\, WI
UID:e.87.24128
SEQUENCE:3
DTSTAMP:20260421T135206Z
URL:https://tourism.rfchamber.com/events/details/kill-the-kegs-party-all-day-24128
END:VEVENT

END:VCALENDAR
