BEGIN:VCALENDAR
VERSION:2.0
PRODID:-//ChamberMaster//Event Calendar 2.0//EN
METHOD:PUBLISH
X-PUBLISHED-TTL:P3D
REFRESH-INTERVAL:P3D
CALSCALE:GREGORIAN
BEGIN:VEVENT
DTSTART:20241109T153000Z
DTEND:20241109T163000Z
X-MICROSOFT-CDO-ALLDAYEVENT:FALSE
SUMMARY:Inspiring Kids Yoga for 4-9 yrs Hudson
DESCRIPTION:Children are invited to explore yoga-meditation\, breathing techniques\, peace\, and deep relaxation through games\, music\, movements and play children will learn strength balance flexibility and self-regulation. For kids ages 4-9\, $12/class. \n\nMinimum registered participants to run the class: 5\; Max 12
X-ALT-DESC;FMTTYPE=text/html:<p>Children are invited to explore yoga-meditation\, breathing techniques\, peace\, and deep relaxation through games\, music\, movements and play children will learn strength balance flexibility and self-regulation. For kids ages 4-9\, $12/class.&nbsp\;</p>\n\n<div>Minimum registered participants to run the class: 5\; Max 12&nbsp\;</div>\n
LOCATION:1370 Hosford Street\, Hudson WI
UID:e.87.21987
SEQUENCE:3
DTSTAMP:20260424T050713Z
URL:https://tourism.rfchamber.com/events/details/inspiring-kids-yoga-for-4-9-yrs-hudson-11-09-2024-21987
END:VEVENT

END:VCALENDAR
