BEGIN:VCALENDAR
VERSION:2.0
PRODID:-//ChamberMaster//Event Calendar 2.0//EN
METHOD:PUBLISH
X-PUBLISHED-TTL:P3D
REFRESH-INTERVAL:P3D
CALSCALE:GREGORIAN
BEGIN:VEVENT
DTSTART:20241012T143000Z
DTEND:20241012T153000Z
X-MICROSOFT-CDO-ALLDAYEVENT:FALSE
SUMMARY:Inspiring Kids Yoga for 4-9 yrs Hudson
DESCRIPTION:Children are invited to explore yoga-meditation\, breathing techniques\, peace\, and deep relaxation through games\, music\, movements and play children will learn strength balance flexibility and self-regulation. For kids ages 4-9\, $12/class.
X-ALT-DESC;FMTTYPE=text/html:Children are invited to explore yoga-meditation\, breathing techniques\, peace\, and deep relaxation through games\, music\, movements and play children will learn strength balance flexibility and self-regulation. For kids ages 4-9\, $12/class.&nbsp\;
LOCATION:1370 Hosford Street\, Hudson WI
UID:e.87.21978
SEQUENCE:3
DTSTAMP:20260424T034755Z
URL:https://tourism.rfchamber.com/events/details/inspiring-kids-yoga-for-4-9-yrs-hudson-10-12-2024-21978
END:VEVENT

END:VCALENDAR
