BEGIN:VCALENDAR
VERSION:2.0
PRODID:-//ChamberMaster//Event Calendar 2.0//EN
METHOD:PUBLISH
X-PUBLISHED-TTL:P3D
REFRESH-INTERVAL:P3D
CALSCALE:GREGORIAN
BEGIN:VEVENT
DTSTART:20241224T150000Z
DTEND:20241224T160000Z
X-MICROSOFT-CDO-ALLDAYEVENT:FALSE
SUMMARY:Holly Jolly Yoga - Hudson
DESCRIPTION:Enjoy this light-hearted\, all-level yoga class to start your holiday celebration. This flow style class will be upbeat and taught to the beat of your favorite Christmas tunes.\n\nRegular class rates apply.
X-ALT-DESC;FMTTYPE=text/html:<!-- x-tinymce/html -->\n<p>Enjoy this light-hearted\, all-level yoga class to start your holiday celebration. This flow style class will be upbeat and taught to the beat of your favorite Christmas tunes.</p>\n\n<p>Regular class rates apply.</p>\n
LOCATION:1370 Hosford Street\, Hudson WI
UID:e.87.22079
SEQUENCE:3
DTSTAMP:20260424T062319Z
URL:https://tourism.rfchamber.com/events/details/holly-jolly-yoga-hudson-22079
END:VEVENT

END:VCALENDAR
