BEGIN:VCALENDAR
VERSION:2.0
PRODID:-//ChamberMaster//Event Calendar 2.0//EN
METHOD:PUBLISH
X-PUBLISHED-TTL:P3D
REFRESH-INTERVAL:P3D
CALSCALE:GREGORIAN
BEGIN:VEVENT
DTSTART:20241201T190000Z
DTEND:20241201T200000Z
X-MICROSOFT-CDO-ALLDAYEVENT:FALSE
SUMMARY:Healing Sound Bath - River Falls
DESCRIPTION:Use sound to clear your mind and relax your body which in turn allows your body to have the ability to heal itself. There are several types of sound that can be used for meditation. Using a rhythmic flow of sound and various methods\, transcend you into a relaxing meditative state. No experience necessary! Everyone is welcome.   \n\nInstructor: Pam Bohlken\n\nHeld at Inspiring Actions Yoga\, 128 South Main Street\, River Falls\, WI 54022\n\nIf possible\, please bring your own yoga mat and any props you made need. We do have some props available\, but we want to make sure everyone is comfortable. Bringing a bottle of water is also recommended.
X-ALT-DESC;FMTTYPE=text/html:<p style="text-align:justify">Use sound to clear your mind and relax your body which in turn allows your body to have the ability to heal itself. There are several types of sound that can be used for meditation. Using a rhythmic flow of sound and various methods\, transcend you into a relaxing meditative state. No experience necessary! Everyone is welcome.&nbsp\; &nbsp\;</p>\n\n<p>Instructor: Pam Bohlken</p>\n\n<p>Held at Inspiring Actions Yoga\, 128 South Main Street\, River Falls\, WI 54022</p>\n\n<p>If possible\, please bring your own yoga mat and any props you made need. We do have some props available\, but we want to make sure everyone is comfortable. Bringing a bottle of water is also recommended.</p>\n
LOCATION:128 South Main Street\, River Falls\, WI 54022
UID:e.87.21173
SEQUENCE:3
DTSTAMP:20260424T050528Z
URL:https://tourism.rfchamber.com/events/details/healing-sound-bath-river-falls-12-01-2024-21173
END:VEVENT

END:VCALENDAR
