BEGIN:VCALENDAR
VERSION:2.0
PRODID:-//ChamberMaster//Event Calendar 2.0//EN
METHOD:PUBLISH
X-PUBLISHED-TTL:P3D
REFRESH-INTERVAL:P3D
CALSCALE:GREGORIAN
BEGIN:VEVENT
DTSTART:20241103T190000Z
DTEND:20241103T200000Z
X-MICROSOFT-CDO-ALLDAYEVENT:FALSE
SUMMARY:Healing Sound Bath - Hudson
DESCRIPTION:Use sound to clear your mind and relax your body which in turn allows your body to have the ability to heal itself. There are several types of sound that can be used for meditation. Using a rhythmic flow of sound and various methods\, transcend you into a relaxing meditative state. No experience necessary  \n\nInstructor: Pam Bohlken\n\nHeld at Inspiring Actions Yoga\, 1370 Hosford Street\, Hudson\, WI 54016\n\nPlease bring your own props and a bottle of water is recommended.
X-ALT-DESC;FMTTYPE=text/html:<p style="text-align:justify">Use sound to clear your mind and relax your body which in turn allows your body to have the ability to heal itself. There are several types of sound that can be used for meditation. Using a rhythmic flow of sound and various methods\, transcend you into a relaxing meditative state. No experience necessary &nbsp\;</p>\n\n<p>Instructor: Pam Bohlken</p>\n\n<p>Held at Inspiring Actions Yoga\, 1370 Hosford Street\, Hudson\, WI 54016</p>\n\n<p>Please bring your own props and a bottle of water is recommended.&nbsp\;</p>\n
LOCATION:1370 Hosford Street\, Hudson WI
UID:e.87.21985
SEQUENCE:3
DTSTAMP:20260424T050528Z
URL:https://tourism.rfchamber.com/events/details/healing-sound-bath-hudson-11-03-2024-21985
END:VEVENT

END:VCALENDAR
