BEGIN:VCALENDAR
VERSION:2.0
PRODID:-//ChamberMaster//Event Calendar 2.0//EN
METHOD:PUBLISH
X-PUBLISHED-TTL:P3D
REFRESH-INTERVAL:P3D
CALSCALE:GREGORIAN
BEGIN:VEVENT
DTSTART:20060801T050000Z
DTEND:20060819T050000Z
X-MICROSOFT-CDO-ALLDAYEVENT:FALSE
SUMMARY:Haley & Friends
DESCRIPTION:A showing of art work by a group of local high school age artists. The show includes paintings\, photography\, collage and sculpture by Haley Prochnow\, Jessica Nelson\, Sara Estrada\, Adam Rosenthal\, and Joe Smith.\nLook for the show on the library's main level.
X-ALT-DESC;FMTTYPE=text/html:A showing of art work by a group of local high school age artists. The show includes paintings\, photography\, collage and sculpture by Haley Prochnow\, Jessica Nelson\, Sara Estrada\, Adam Rosenthal\, and Joe Smith.\nLook for the show on the library's main level.
LOCATION:River Falls Public Libray 140 Union St. At the corner of Main and Union streeets on the north edge of historic downtown River Falls.
UID:e.87.85
SEQUENCE:3
DTSTAMP:20260420T001610Z
URL:https://tourism.rfchamber.com/events/details/haley-friends-08-01-2006-85
END:VEVENT

END:VCALENDAR
