BEGIN:VCALENDAR
VERSION:2.0
PRODID:-//ChamberMaster//Event Calendar 2.0//EN
METHOD:PUBLISH
X-PUBLISHED-TTL:P3D
REFRESH-INTERVAL:P3D
CALSCALE:GREGORIAN
BEGIN:VEVENT
DTSTART:20241127T004500Z
DTEND:20241127T014500Z
X-MICROSOFT-CDO-ALLDAYEVENT:FALSE
SUMMARY:Gratitude Practice - Hudson
DESCRIPTION:Start your Thanksgiving celebrations with a gentle yoga class all about gratitude!\n\nRegular class rates apply
X-ALT-DESC;FMTTYPE=text/html:<p>Start your Thanksgiving celebrations with a gentle yoga class all about gratitude!</p>\n\n<p>Regular class rates apply</p>\n
LOCATION:1370 Hosford Street\, Hudson WI
UID:e.87.22050
SEQUENCE:3
DTSTAMP:20260424T050327Z
URL:https://tourism.rfchamber.com/events/details/gratitude-practice-hudson-22050
END:VEVENT

END:VCALENDAR
